BEGIN:VCALENDAR
VERSION:2.0
PRODID:icalendar-ruby
CALSCALE:GREGORIAN
METHOD:PUBLISH
BEGIN:VEVENT
DTSTAMP:20260421T074322Z
UID:5-399592@tccnorton.org
DTSTART:20260830T140000Z
DTEND:20260830T150000Z
CLASS:PUBLIC
CREATED:20260420T211914
DESCRIPTION:Sunday Worship
LAST-MODIFIED:20260420T211914
LOCATION:
SUMMARY:Sunday Worship
URL;VALUE=URI:https://www.tccnorton.org/events/sunday-worship/2026-08-30
END:VEVENT
END:VCALENDAR
