BEGIN:VCALENDAR
VERSION:2.0
PRODID:icalendar-ruby
CALSCALE:GREGORIAN
METHOD:PUBLISH
BEGIN:VEVENT
DTSTAMP:20260421T173257Z
UID:5-400120@tccnorton.org
DTSTART:20261011T140000Z
DTEND:20261011T150000Z
CLASS:PUBLIC
CREATED:20260421T110211
DESCRIPTION:Sunday Worship
LAST-MODIFIED:20260421T110211
LOCATION:
SUMMARY:Sunday Worship
URL;VALUE=URI:https://www.tccnorton.org/events/sunday-worship/2026-10-11
END:VEVENT
END:VCALENDAR
